BEGIN:VCALENDAR
CALSCALE:GREGORIAN
VERSION:2.0
PRODID:-//Elixir ICalendar//Elixir ICalendar//EN
BEGIN:VEVENT
ATTACH;FMTTYPE=image/png:https://termine.uckermark.social/media/58f7816bff6dd0fa67b16857eca277c1b71a0f9907e52b63390121243d2b2414.png?name=BIOSPHAeRE-Schorfheide-CHORIN-6-1-724x1024.png.pagespeed.ce.-AyR90ydyY.png
CATEGORIES:Uckermark,Biosphäre,Naturschutz
DESCRIPTION:Wir laden herzlich ein zu einem Vortrag + Gespräch zum Thema „Leben im Biosphärenreservat Schorfheide-Chorin“\n\nWann: 8. Mai 2026 – 18:00 Uhr \n\nWo: Kirche / Gollin \n\nMit: Dr. Susanne Winter – Leiterin des Biosphärenreservats\n\nDas UNESCO-Biosphärenreservat Schorfheide-Chorin gehört zu den weltweit 784 Modellregionen (Stand November 2025)\, in denen Menschen und Natur gemeinsam eine Kulturlandschaft erhalten und nachhaltig weiterentwickeln. Das Reservat zeigt\, wie man Natur schützen und gleichzeitig gut in einer Region leben und wirtschaften kann. Es ist eine Modellregion für nachhaltige Entwicklung in der wir alle leben. Anlass für diese Informationsveranstaltung ist die geplante Neufassung der Biosphärenreservatsverordnung\, in der möglicherweise grundlegende Paradigmen auf den Prüfstand gestellt werden könnten. Um in die Diskussion einsteigen zu können\, sind grundlegende Informationen und Wissen über das Funktionieren und die Struktur des Reservats unerlässlich. Dazu soll die Veranstaltung einen Beitrag leisten.\n\nIm Vortrag mit anschließenden Gespräch soll es unter anderem um folgende Fragen gehen – Was macht das Reservat aus? Wie funktioniert es? Aber auch\, was erwartet uns womöglich mit der geplanten neuen Verordnung zum Biosphärenreservat.\n\nFrau Dr. Winter ist seit 2025 Leiterin der Geschäftsstelle des Biospährenreservats und als Forstwissenschaftlerin auch in ihrer beruflichen Werdegang\, dem Biosphärenreservat Schorfheide-Chorin seit vielen Jahren fachlich verbunden.\n\n
DTEND;TZID=Europe/Berlin:20260508T200000
DTSTAMP:20260423T045046Z
DTSTART;TZID=Europe/Berlin:20260508T180000
GEO:53.0495888;13.6042281
LOCATION:Dorfkirche Gollin Golliner Dorfstraße 17268 Templin Brandenburg Deutschland
ORGANIZER:Leben in Groß Dölln e.V.
STATUS:CONFIRMED
SUMMARY:Leben im Biosphärenreservat Schorfheide-Chorin - Gespräch & Vortrag
UID:9b21eca2-94f3-45e3-9037-57c44dded510
URL:https://termine.uckermark.social/events/9b21eca2-94f3-45e3-9037-57c44dded510
END:VEVENT
BEGIN:VEVENT
CATEGORIES:DiDay
DESCRIPTION:Getreu dem Motto "Jeden ersten Sonntag im Monat auf die gute Seite wechseln!"findet auch am Sonntag\, den 5. April 2026wieder ein Digital Independence Day Templin statt. Wir laden Euch am Ostersonntag ein\, mit uns zusammen weitere Schritte in Richtung digitaler Unabhängikeit zu unternehmen.\n\nWAS ERWARTET EUCH?\n\nIhr wollt wissen\, was der Digital Independence Day ist? Ihr habt schon mal von Open Source gehört / gelesen und wollt mehr dazu erfahren? Wir erklären es Euch\, einfach und verständlich. Und bei Bedarf auch gern mit mehr technischen Details.\n\n\n\nIhr habt Fragen zu oder Probleme mit euren digitalen Diensten? Wir versuchen\, Antworten zu finden und zeigen Euch Lösungswege auf.\n\n\n\nIhr wollt wechseln\, aber wisst nicht so richtig\, wie man vorgehen soll? Dann lasst uns das zusammen machen. Wir zeigen Euch\, wie es geht und was man beachten muss.\n\n\n\nIhr wolltet schon immer mal einen Raspberry Pi testen? Dann habt Ihr hier die Gelegentheit. Wir stellen einen Raspi 500 mit vorinstalliertem Linux zur Verfügung.\n\n\n\nEs sind keine Vorkenntnisse nötig! Bringt gern Eure Geräte (Smartphone\, Notebook) mit. WLAN\, Beamer und Schreibtische sind vorhanden\, so dass wir zusammen ein paar praktische Übungen machen können.\n\nTHEMEN\n\nHier eine kleine Auswahl möglicher Themen:\n\n\n\n- Messenger (WhatsApp zu Signal)⁩\n\n\n- Desktop (Windows zu Linux)⁩\n\n\n- Browser (Chrome zu Firefox)⁩\n\n\n- Suchmaschinen (Google-Alternativen)\n\n\n- Office (Microsoft zu LibreOffice)⁩\n\n\n- E-Mail (Gmail-Alternativen)⁩\n\n\n- Social Media (Fediverse statt X / Facebook / Instagram / YouTube)⁩\n\n\n- Payment (PayPal-Alternativen)\n\n\nAber wie erwähnt\, die Welt der digitalen Unabhängigkeit ist weit und groß. Bringt gern weitere Themen mit.\n\nKONTAKT\n\nIhr habt vorab ein paar Fragen? Dann kontaktiert uns:\n\n- E-Mail di.day@uckermark.social\n\n\n- Signal-Gruppe "DI.Day Uckermark"\n\n\n
DTEND;TZID=Europe/Berlin:20260405T160000
DTSTAMP:20260423T045046Z
DTSTART;TZID=Europe/Berlin:20260405T140000
GEO:53.120108599999995;13.5009354
LOCATION:22 Pestalozzistraße 22 Pestalozzistraße 17268 Templin Brandenburg Deutschland
ORGANIZER:Digital Indenpendence Day Uckermark
STATUS:CONFIRMED
SUMMARY:2. Digital Independence Day Templin
UID:f6df6ca4-d1bd-43e7-9138-bb9fbe47bd04
URL:https://termine.uckermark.social/events/f6df6ca4-d1bd-43e7-9138-bb9fbe47bd04
END:VEVENT
BEGIN:VEVENT
ATTACH;FMTTYPE=image/png:https://termine.uckermark.social/media/4710c47c918c4f9c069d210e848160bb5d27384cb3921fd75bd2977a101e2662.png?name=IMG_0752.png
CATEGORIES:did,DIDay,DUT,Uckermark,Templin
DESCRIPTION:WAS ERWARTET DICH?\n\nKurze Einführung: Was ist der Digital Independence Day?\n\nVorstellung von Alternativen zu kommerziellen US-Diensten\n\nPraktische Übung: Gemeinsam alternative Messenger & Social Media einrichten\n\nKeine Vorkenntnisse nötig! Bring einfach dein Smartphone mit – wir helfen dir\n\nbeim Einrichten.\n\nWIR ZEIGEN DIR ALTERNATIVEN\n\nWhatsApp→Signal\n\nX / Twitter→Mastodon\n\nInstagram→Pixelfed\n\nFragen? Kontaktiere uns:\n\ndi.day@uckermark.social\n\n
DTEND;TZID=Europe/Berlin:20260301T160000
DTSTAMP:20260423T045046Z
DTSTART;TZID=Europe/Berlin:20260301T140000
GEO:53.120108599999995;13.5009354
LOCATION:BündnisBüro 22 Pestalozzistraße 17268 Templin Brandenburg Germany
ORGANIZER:Digital Indenpendence Day Uckermark
STATUS:CONFIRMED
SUMMARY:1. Digital Independence Day Templin
UID:59090342-7a8d-4b13-9e7b-f31481666fcd
URL:https://termine.uckermark.social/events/59090342-7a8d-4b13-9e7b-f31481666fcd
END:VEVENT
END:VCALENDAR
